BEGIN:VCALENDAR
VERSION:2.0
PRODID:-//USLV - Union des Sociétés Locales de Valbroye - ECPv6.8.2.1//NONSGML v1.0//EN
CALSCALE:GREGORIAN
METHOD:PUBLISH
X-ORIGINAL-URL:https://uslv.org
X-WR-CALDESC:Évènements pour USLV - Union des Sociétés Locales de Valbroye
REFRESH-INTERVAL;VALUE=DURATION:PT1H
X-Robots-Tag:noindex
X-PUBLISHED-TTL:PT1H
BEGIN:VTIMEZONE
TZID:Europe/Zurich
BEGIN:DAYLIGHT
TZOFFSETFROM:+0100
TZOFFSETTO:+0200
TZNAME:CEST
DTSTART:20230326T010000
END:DAYLIGHT
BEGIN:STANDARD
TZOFFSETFROM:+0200
TZOFFSETTO:+0100
TZNAME:CET
DTSTART:20231029T010000
END:STANDARD
END:VTIMEZONE
BEGIN:VEVENT
DTSTART;TZID=Europe/Zurich:20230317T190000
DTEND;TZID=Europe/Zurich:20230318T233000
DTSTAMP:20260420T010627
CREATED:20230109T175359Z
LAST-MODIFIED:20230109T175359Z
UID:1369-1679079600-1679182200@uslv.org
SUMMARY:Souper Théâtre 2023 - sté de jeunesse de Combremont-le-Grand
DESCRIPTION:Souper théâtre proposé par la jeunesse de Combremont-le-Grand. \nQuelques petits sketches qui raconte l’actualité de la campagne Vaudoise. \nAu menu :                                                                                                                                                entrée\, Chinoise à gogo\, Dessert surprise\, café. \nUne bouteille offerte par groupe de 6 personnes inscrites. \nApero dès 19h \nBar des 23h \nInscription: 60.- par personnes et 2.- par age jusqu’à 12 ans \nRéservation au : 079/567 18.45 ( jusqu’au mecredi 15 Mars)
URL:https://uslv.org/calendrier/souper-theatre-2023-ste-de-jeunesse-de-combremont-le-grand/
LOCATION:Combremont-le-Grand Grande Salle
END:VEVENT
END:VCALENDAR