BEGIN:VCALENDAR
VERSION:2.0
PRODID:-//USLV - Union des Sociétés Locales de Valbroye - ECPv6.8.2.1//NONSGML v1.0//EN
CALSCALE:GREGORIAN
METHOD:PUBLISH
X-ORIGINAL-URL:https://uslv.org
X-WR-CALDESC:Évènements pour USLV - Union des Sociétés Locales de Valbroye
REFRESH-INTERVAL;VALUE=DURATION:PT1H
X-Robots-Tag:noindex
X-PUBLISHED-TTL:PT1H
BEGIN:VTIMEZONE
TZID:Europe/Zurich
BEGIN:DAYLIGHT
TZOFFSETFROM:+0100
TZOFFSETTO:+0200
TZNAME:CEST
DTSTART:20230326T010000
END:DAYLIGHT
BEGIN:STANDARD
TZOFFSETFROM:+0200
TZOFFSETTO:+0100
TZNAME:CET
DTSTART:20231029T010000
END:STANDARD
END:VTIMEZONE
BEGIN:VEVENT
DTSTART;TZID=Europe/Zurich:20230325T180000
DTEND;TZID=Europe/Zurich:20230325T230000
DTSTAMP:20260419T232507
CREATED:20230204T045508Z
LAST-MODIFIED:20230204T045508Z
UID:1378-1679767200-1679785200@uslv.org
SUMMARY:Commission culturelle de Valbroye  -  Projection-video
DESCRIPTION:Projection-vidéo contre l’ancien collège de Combremont-le-Petit\, show de musique synchronisé. \nMaping video CCV \nBar et fondues \n 
URL:https://uslv.org/calendrier/commission-culturelle-de-valbroye-projection-video/
LOCATION:Combremont-le-Petit Four\, Rue du Temple\, Combremont-le-Petit\, Suisse
END:VEVENT
END:VCALENDAR