BEGIN:VCALENDAR
VERSION:2.0
PRODID:-//USLV - Union des Sociétés Locales de Valbroye - ECPv6.8.2.1//NONSGML v1.0//EN
CALSCALE:GREGORIAN
METHOD:PUBLISH
X-WR-CALNAME:USLV - Union des Sociétés Locales de Valbroye
X-ORIGINAL-URL:https://uslv.org
X-WR-CALDESC:Évènements pour USLV - Union des Sociétés Locales de Valbroye
REFRESH-INTERVAL;VALUE=DURATION:PT1H
X-Robots-Tag:noindex
X-PUBLISHED-TTL:PT1H
BEGIN:VTIMEZONE
TZID:Europe/Zurich
BEGIN:DAYLIGHT
TZOFFSETFROM:+0100
TZOFFSETTO:+0200
TZNAME:CEST
DTSTART:20230326T010000
END:DAYLIGHT
BEGIN:STANDARD
TZOFFSETFROM:+0200
TZOFFSETTO:+0100
TZNAME:CET
DTSTART:20231029T010000
END:STANDARD
END:VTIMEZONE
BEGIN:VEVENT
DTSTART;TZID=Europe/Zurich:20230513T200000
DTEND;TZID=Europe/Zurich:20230514T020000
DTSTAMP:20260420T004929
CREATED:20220627T202301Z
LAST-MODIFIED:20220627T202301Z
UID:1305-1684008000-1684029600@uslv.org
SUMMARY:Choeur-mixte la chanson de l'Ochette - soirée chant et théâtre
DESCRIPTION:Soirée de chant et théâtre
URL:https://uslv.org/calendrier/choeur-mixte-la-chanson-de-lochette-soiree-chant-et-theatre/
END:VEVENT
BEGIN:VEVENT
DTSTART;TZID=Europe/Zurich:20230514T093000
DTEND;TZID=Europe/Zurich:20230514T150000
DTSTAMP:20260420T004929
CREATED:20220920T213632Z
LAST-MODIFIED:20220920T213632Z
UID:1342-1684056600-1684076400@uslv.org
SUMMARY:BRUNCH - Ensemble pour eux
DESCRIPTION:Brunch de 9 h 30 à 15 h 00. \nAssociation “Ensemble pour eux”
URL:https://uslv.org/calendrier/brunch-ensemble-pour-eux/
LOCATION:Granges-Marnand Battoir
END:VEVENT
END:VCALENDAR