BEGIN:VCALENDAR
VERSION:2.0
PRODID:-//USLV - Union des Sociétés Locales de Valbroye - ECPv6.8.2.1//NONSGML v1.0//EN
CALSCALE:GREGORIAN
METHOD:PUBLISH
X-ORIGINAL-URL:https://uslv.org
X-WR-CALDESC:Évènements pour USLV - Union des Sociétés Locales de Valbroye
REFRESH-INTERVAL;VALUE=DURATION:PT1H
X-Robots-Tag:noindex
X-PUBLISHED-TTL:PT1H
BEGIN:VTIMEZONE
TZID:Europe/Zurich
BEGIN:DAYLIGHT
TZOFFSETFROM:+0100
TZOFFSETTO:+0200
TZNAME:CEST
DTSTART:20230326T010000
END:DAYLIGHT
BEGIN:STANDARD
TZOFFSETFROM:+0200
TZOFFSETTO:+0100
TZNAME:CET
DTSTART:20231029T010000
END:STANDARD
END:VTIMEZONE
BEGIN:VEVENT
DTSTART;TZID=Europe/Zurich:20230506T183000
DTEND;TZID=Europe/Zurich:20230507T030000
DTSTAMP:20260419T184655
CREATED:20220602T174153Z
LAST-MODIFIED:20220602T174215Z
UID:1277-1683397800-1683428400@uslv.org
SUMMARY:Choeur-mixte de l'Ochette - souper spectacle.
DESCRIPTION:Soirée de chant avec théatre et repas
URL:https://uslv.org/calendrier/choeur-mixte-de-lochette-souper-spectacle/
LOCATION:Combremont-le-Petit grande salle
END:VEVENT
BEGIN:VEVENT
DTSTART;TZID=Europe/Zurich:20230512T183000
DTEND;TZID=Europe/Zurich:20230513T000000
DTSTAMP:20260419T184655
CREATED:20230512T052115Z
LAST-MODIFIED:20220602T173343Z
UID:1250-1683916200-1683936000@uslv.org
SUMMARY:Choeur-mixte la Chanson de l'Ochette - spectacle
DESCRIPTION:Spectacle\, \nSoirée de chant et de théâtre
URL:https://uslv.org/calendrier/choeur-mixte-la-chanson-de-lochette-spectacle-2/
END:VEVENT
BEGIN:VEVENT
DTSTART;TZID=Europe/Zurich:20230512T200000
DTEND;TZID=Europe/Zurich:20230513T040000
DTSTAMP:20260419T184655
CREATED:20220627T202141Z
LAST-MODIFIED:20220627T202141Z
UID:1303-1683921600-1683950400@uslv.org
SUMMARY:Choeur-mixte la chanson de l'Ochette - soirée de chant et théatre
DESCRIPTION:Soirée de chant et théâtre
URL:https://uslv.org/calendrier/choeur-mixte-la-chanson-de-lochette-soiree-de-chant-et-theatre-2/
LOCATION:Combremont-le-Petit grande salle
END:VEVENT
BEGIN:VEVENT
DTSTART;TZID=Europe/Zurich:20230513T110000
DTEND;TZID=Europe/Zurich:20230513T200000
DTSTAMP:20260419T184655
CREATED:20230430T082909Z
LAST-MODIFIED:20230430T082909Z
UID:1397-1683975600-1684008000@uslv.org
SUMMARY:Fournée de printemps - Mil et une miches
DESCRIPTION:Fournée de gâteaux et pains au four banal
URL:https://uslv.org/calendrier/fournee-de-printemps-mil-et-une-miches/
LOCATION:Combremont-le-Petit Four\, Rue du Temple\, Combremont-le-Petit\, Suisse
END:VEVENT
BEGIN:VEVENT
DTSTART;TZID=Europe/Zurich:20230513T200000
DTEND;TZID=Europe/Zurich:20230514T020000
DTSTAMP:20260419T184655
CREATED:20220627T202301Z
LAST-MODIFIED:20220627T202301Z
UID:1305-1684008000-1684029600@uslv.org
SUMMARY:Choeur-mixte la chanson de l'Ochette - soirée chant et théâtre
DESCRIPTION:Soirée de chant et théâtre
URL:https://uslv.org/calendrier/choeur-mixte-la-chanson-de-lochette-soiree-chant-et-theatre/
END:VEVENT
BEGIN:VEVENT
DTSTART;TZID=Europe/Zurich:20230514T093000
DTEND;TZID=Europe/Zurich:20230514T150000
DTSTAMP:20260419T184655
CREATED:20220920T213632Z
LAST-MODIFIED:20220920T213632Z
UID:1342-1684056600-1684076400@uslv.org
SUMMARY:BRUNCH - Ensemble pour eux
DESCRIPTION:Brunch de 9 h 30 à 15 h 00. \nAssociation “Ensemble pour eux”
URL:https://uslv.org/calendrier/brunch-ensemble-pour-eux/
LOCATION:Granges-Marnand Battoir
END:VEVENT
END:VCALENDAR